BEGIN:VCALENDAR
VERSION:2.0
PRODID:-//Ryan Fireprotection - ECPv6.15.20//NONSGML v1.0//EN
CALSCALE:GREGORIAN
METHOD:PUBLISH
X-WR-CALNAME:Ryan Fireprotection
X-ORIGINAL-URL:https://www.ryanfp.com
X-WR-CALDESC:Events for Ryan Fireprotection
REFRESH-INTERVAL;VALUE=DURATION:PT1H
X-Robots-Tag:noindex
X-PUBLISHED-TTL:PT1H
BEGIN:VTIMEZONE
TZID:America/Chicago
BEGIN:DAYLIGHT
TZOFFSETFROM:-0600
TZOFFSETTO:-0500
TZNAME:CDT
DTSTART:20170312T080000
END:DAYLIGHT
BEGIN:STANDARD
TZOFFSETFROM:-0500
TZOFFSETTO:-0600
TZNAME:CST
DTSTART:20171105T070000
END:STANDARD
BEGIN:DAYLIGHT
TZOFFSETFROM:-0600
TZOFFSETTO:-0500
TZNAME:CDT
DTSTART:20180311T080000
END:DAYLIGHT
BEGIN:STANDARD
TZOFFSETFROM:-0500
TZOFFSETTO:-0600
TZNAME:CST
DTSTART:20181104T070000
END:STANDARD
BEGIN:DAYLIGHT
TZOFFSETFROM:-0600
TZOFFSETTO:-0500
TZNAME:CDT
DTSTART:20190310T080000
END:DAYLIGHT
BEGIN:STANDARD
TZOFFSETFROM:-0500
TZOFFSETTO:-0600
TZNAME:CST
DTSTART:20191103T070000
END:STANDARD
END:VTIMEZONE
BEGIN:VTIMEZONE
TZID:America/Indiana/Indianapolis
BEGIN:DAYLIGHT
TZOFFSETFROM:-0500
TZOFFSETTO:-0400
TZNAME:EDT
DTSTART:20160313T070000
END:DAYLIGHT
BEGIN:STANDARD
TZOFFSETFROM:-0400
TZOFFSETTO:-0500
TZNAME:EST
DTSTART:20161106T060000
END:STANDARD
BEGIN:DAYLIGHT
TZOFFSETFROM:-0500
TZOFFSETTO:-0400
TZNAME:EDT
DTSTART:20170312T070000
END:DAYLIGHT
BEGIN:STANDARD
TZOFFSETFROM:-0400
TZOFFSETTO:-0500
TZNAME:EST
DTSTART:20171105T060000
END:STANDARD
BEGIN:DAYLIGHT
TZOFFSETFROM:-0500
TZOFFSETTO:-0400
TZNAME:EDT
DTSTART:20180311T070000
END:DAYLIGHT
BEGIN:STANDARD
TZOFFSETFROM:-0400
TZOFFSETTO:-0500
TZNAME:EST
DTSTART:20181104T060000
END:STANDARD
BEGIN:DAYLIGHT
TZOFFSETFROM:-0500
TZOFFSETTO:-0400
TZNAME:EDT
DTSTART:20190310T070000
END:DAYLIGHT
BEGIN:STANDARD
TZOFFSETFROM:-0400
TZOFFSETTO:-0500
TZNAME:EST
DTSTART:20191103T060000
END:STANDARD
END:VTIMEZONE
BEGIN:VEVENT
DTSTART;TZID=America/Chicago:20180418T103000
DTEND;TZID=America/Chicago:20180418T120000
DTSTAMP:20260425T232304
CREATED:20180316T133044Z
LAST-MODIFIED:20180316T133044Z
UID:10000016-1524047400-1524052800@www.ryanfp.com
SUMMARY:Fire Alarm Systems I: Inspection\, Testing\, and Maintenance
DESCRIPTION:Please join us for a Lunch & Learn on Fire Alarm Systems\, on Wednesday\, April 18 from 10:30 am – 12:00 pm at Valparaiso University Christopher Center Library\, Room 205. During this seminar\, a Ryan Fireprotection expert will provide an overview of the NFPA 70\, 72\, and 101 requirements – and what you\, as a building owner\, are responsible for. \nWe will cover: \n\nFire alarm system basics\nProprietary versus non-proprietary panels\nFactors that affect system performance\nResponsibility of a Building Owner/Facility Manager\nProper reporting and record keeping\nUnderstanding of system types and components\nHow to recognize system impairments and notification procedures\nDifferences between and procedures for:\n\nInspection\nTesting\nMaintenance\n\n\n\nPlease join us for this important seminar on April 18 by registering below. Space is limited\, and lunch will be served.
URL:https://www.ryanfp.com/event/fire-alarms1-april2018-valparaiso/
LOCATION:Valparaiso University\, Christopher Center Library and Information Services\, 1410 Chapel Drive\, Valparaiso\, IN\, 46383\, United States
CATEGORIES:Training Seminar
ATTACH;FMTTYPE=image/jpeg:https://www.ryanfp.com/wp-content/uploads/2023/07/Ryan-Fire-2023-117-2.jpg
END:VEVENT
BEGIN:VEVENT
DTSTART;TZID=America/Indiana/Indianapolis:20180412T113000
DTEND;TZID=America/Indiana/Indianapolis:20180412T130000
DTSTAMP:20260425T232304
CREATED:20180131T134908Z
LAST-MODIFIED:20180131T134908Z
UID:10000013-1523532600-1523538000@www.ryanfp.com
SUMMARY:Fire Sprinkler Systems: Inspection\, Testing\, and Maintenance
DESCRIPTION:A fire sprinkler system is a critical part to protecting your personnel and property\, and it must be properly inspected and maintained. As the building owner\, it is your responsibility to properly maintain all water-based fire protection systems in your facility. As your partner in fire and life safety\, it is our duty to ensure you understand these requirements and are receiving mandatory inspections\, testing\, and maintenance. \nPlease join us for a training seminar on Fire Sprinkler Systems\, to be held on Thursday\, April 12\, 2018 from 11:30 AM to 1:00 PM at Ryan Fireprotection’s Louisville offices. We will discuss types of sprinkler systems\, and the types of facilities they are designed for\, and then delve into the NFPA requirements for inspection\, testing\, and maintenance of these important fire safety systems.\n \nPlease register using the form below. Remember\, space is limited!
URL:https://www.ryanfp.com/event/sprinkler-systems-seminar-mar18-louisville/
LOCATION:Ryan Fireprotection Louisville Office\, 450 Downes Terrace\, Louisville\, KY\, 40214\, United States
CATEGORIES:Training Seminar
ATTACH;FMTTYPE=image/jpeg:https://www.ryanfp.com/wp-content/uploads/2023/07/Ryan-Fire-2023-117-2.jpg
END:VEVENT
BEGIN:VEVENT
DTSTART;TZID=America/Indiana/Indianapolis:20180411T113000
DTEND;TZID=America/Indiana/Indianapolis:20180411T130000
DTSTAMP:20260425T232304
CREATED:20180130T142712Z
LAST-MODIFIED:20180130T142712Z
UID:10000007-1523446200-1523451600@www.ryanfp.com
SUMMARY:Corrosion Control in Fire Sprinkler Systems
DESCRIPTION:Corrosion in a sprinkler system leads to pin-hole leaks and costly service calls. While a repair can patch the immediate problem\, this is only a short term fix. If corrosion exists in a fire sprinkler system\, there is a good chance oxygen is to blame. \nPlease join us for a Lunch & Learn on Wednesday\, April 11\, from 11:30 am – 1:00 pm to learn more about corrosion in fire sprinkler systems and proactive ways to handle it. We will address misconceptions about what causes corrosion\, how to prevent it\, and how to find a solution when corrosion is present. \nRegister today using the form below. Space is limited!
URL:https://www.ryanfp.com/event/corrosion-control-seminar-april18-indianapolis/
LOCATION:Ryan Fireprotection Headquarters\, 9740 East 148th Street\, Noblesville\, IN\, 46060\, United States
CATEGORIES:Training Seminar
ATTACH;FMTTYPE=image/jpeg:https://www.ryanfp.com/wp-content/uploads/2023/07/Ryan-Fire-2023-117-2.jpg
END:VEVENT
BEGIN:VEVENT
DTSTART;TZID=America/Indiana/Indianapolis:20180307T113000
DTEND;TZID=America/Indiana/Indianapolis:20180307T130000
DTSTAMP:20260425T232304
CREATED:20180130T135501Z
LAST-MODIFIED:20180130T135501Z
UID:10000003-1520422200-1520427600@www.ryanfp.com
SUMMARY:Fire Alarm Systems: Inspection\, Testing\, and Maintenance
DESCRIPTION:Please join us for a Lunch & Learn on Fire Alarm Systems\, on Wednesday\, March 7\, from 11:30 am – 1:00 pm at the Ryan Fireprotection headquarters. \nDuring this seminar on Fire Alarms\, a Ryan Fireprotection expert will provide an overview of the NFPA 70\, 72\, and 101 requirements – and what you\, as a building owner\, are responsible for. \nWe will cover: \n\nFire alarm system basics\nUnderstanding of system types and components\nProprietary vs. non-proprietary panels\nFactors that affect system performance\nResponsibilities of a building owner and/or facility manager\nProper reporting and record keeping\nHow to recognize system impairments and notification procedures\nDifferences between and procedures for:\n\nInspection\nTesting\nMaintenance\n\n\n\nPlease join us for this important seminar on March 7 by registering below. Space is limited\, and lunch will be served.
URL:https://www.ryanfp.com/event/fire-alarms-seminar-mar18-indianapolis/
LOCATION:Ryan Fireprotection Headquarters\, 9740 East 148th Street\, Noblesville\, IN\, 46060\, United States
CATEGORIES:Training Seminar
ATTACH;FMTTYPE=image/jpeg:https://www.ryanfp.com/wp-content/uploads/2023/07/Ryan-Fire-2023-117-2.jpg
END:VEVENT
BEGIN:VEVENT
DTSTART;TZID=America/Indiana/Indianapolis:20180213T110000
DTEND;TZID=America/Indiana/Indianapolis:20180213T123000
DTSTAMP:20260425T232304
CREATED:20180109T141838Z
LAST-MODIFIED:20180109T141838Z
UID:10000002-1518519600-1518525000@www.ryanfp.com
SUMMARY:Preparing Your Fire Sprinkler Systems for Freeze-Ups
DESCRIPTION:The winter months bring harsh weather for many areas\, but even those not greatly afflicted with freezing temperatures need a winterization plan. Indiana is known for warmer temperatures during the day and frigid\, cold temperatures at night\, making it even more important to give your sprinkler system extra attention. \nAs the building owner\, it is your responsibility to properly maintain all water-based fire protection systems in your facility. As your trusted partner in fire and life safety\, it is our duty to ensure you understand these requirements. Ryan Fireprotection will be hosting a Lunch & Learn on February 13\, 2018 at 11:00 AM to discuss preparing fire sprinkler systems for freeze-ups. During this training\, we will cover: \n\nWinterizing your fire sprinkler system\nVisual inspections throughout winter\nWhat to do when a freeze-up occurs\n\nPlease join us for this important seminar by registering below.
URL:https://www.ryanfp.com/event/freeze-ups-seminar-feb2018-valpo/
LOCATION:Valparaiso Chamber of Commerce\, 162 Lincolnway\, Valparaiso\, IN\, 46383\, United States
CATEGORIES:Training Seminar
ATTACH;FMTTYPE=image/jpeg:https://www.ryanfp.com/wp-content/uploads/2023/07/Ryan-Fire-2023-117-2.jpg
END:VEVENT
BEGIN:VEVENT
DTSTART;VALUE=DATE:20171129
DTEND;VALUE=DATE:20171202
DTSTAMP:20260425T232304
CREATED:20170829T143016Z
LAST-MODIFIED:20170829T143016Z
UID:10000001-1511913600-1512172799@www.ryanfp.com
SUMMARY:Midwest Healthcare Engineering Conference and Tradeshow
DESCRIPTION:
URL:https://www.ryanfp.com/event/midwest-healthcare-engineering-conference-and-tradeshow/
LOCATION:Indiana Convention Center\, 100 South Capitol Avenue\, Indianapolis\, IN\, 46225\, United States
CATEGORIES:Tradeshow
ATTACH;FMTTYPE=image/jpeg:https://www.ryanfp.com/wp-content/uploads/2023/07/Ryan-Fire-2023-117-2.jpg
END:VEVENT
END:VCALENDAR